BEGIN:VCALENDAR
VERSION:2.0
PRODID:-//Ellsworth Meadows - ECPv6.15.20//NONSGML v1.0//EN
CALSCALE:GREGORIAN
METHOD:PUBLISH
X-ORIGINAL-URL:https://ellsworthmeadows.com
X-WR-CALDESC:Events for Ellsworth Meadows
REFRESH-INTERVAL;VALUE=DURATION:PT1H
X-Robots-Tag:noindex
X-PUBLISHED-TTL:PT1H
BEGIN:VTIMEZONE
TZID:America/Toronto
BEGIN:DAYLIGHT
TZOFFSETFROM:-0500
TZOFFSETTO:-0400
TZNAME:EDT
DTSTART:20190310T070000
END:DAYLIGHT
BEGIN:STANDARD
TZOFFSETFROM:-0400
TZOFFSETTO:-0500
TZNAME:EST
DTSTART:20191103T060000
END:STANDARD
BEGIN:DAYLIGHT
TZOFFSETFROM:-0500
TZOFFSETTO:-0400
TZNAME:EDT
DTSTART:20200308T070000
END:DAYLIGHT
BEGIN:STANDARD
TZOFFSETFROM:-0400
TZOFFSETTO:-0500
TZNAME:EST
DTSTART:20201101T060000
END:STANDARD
BEGIN:DAYLIGHT
TZOFFSETFROM:-0500
TZOFFSETTO:-0400
TZNAME:EDT
DTSTART:20210314T070000
END:DAYLIGHT
BEGIN:STANDARD
TZOFFSETFROM:-0400
TZOFFSETTO:-0500
TZNAME:EST
DTSTART:20211107T060000
END:STANDARD
END:VTIMEZONE
BEGIN:VEVENT
DTSTART;VALUE=DATE:20201017
DTEND;VALUE=DATE:20201019
DTSTAMP:20260423T102520
CREATED:20200916T134529Z
LAST-MODIFIED:20200916T134529Z
UID:10000128-1602892800-1603065599@ellsworthmeadows.com
SUMMARY:Club Championship
DESCRIPTION:Compete in this year’s Club Championship at Ellsworth Meadows!\n\nOctober 17 & 18\nFirst tee time each day is 9am.\n\n$100 per player\nIncludes: two rounds of golf\, cart\, range\, lunch and steak dinner after the first round\n\n\nThis event will be handicapped\, and flighted based on handicap. \nGolfers must have a valid handicap to enter.\n\nTo sign up\, call the pro shop at 330.655.2267\, or fill out the form below\n \n 
URL:https://ellsworthmeadows.com/event/club-championship/
LOCATION:ELLSWORTH MEADOWS GOLF CLUB\, 1101 Barlow Road\, Hudson\, Ohio\, OH\, United States
ATTACH;FMTTYPE=image/png:https://ellsworthmeadows.com/wp-content/uploads/2020/09/ellsworth-meadows-_-club-championship-1.png
END:VEVENT
END:VCALENDAR