BEGIN:VCALENDAR
VERSION:2.0
PRODID:-//Ellsworth Meadows - ECPv6.15.20//NONSGML v1.0//EN
CALSCALE:GREGORIAN
METHOD:PUBLISH
X-WR-CALNAME:Ellsworth Meadows
X-ORIGINAL-URL:https://ellsworthmeadows.com
X-WR-CALDESC:Events for Ellsworth Meadows
REFRESH-INTERVAL;VALUE=DURATION:PT1H
X-Robots-Tag:noindex
X-PUBLISHED-TTL:PT1H
BEGIN:VTIMEZONE
TZID:America/Toronto
BEGIN:DAYLIGHT
TZOFFSETFROM:-0500
TZOFFSETTO:-0400
TZNAME:EDT
DTSTART:20200308T070000
END:DAYLIGHT
BEGIN:STANDARD
TZOFFSETFROM:-0400
TZOFFSETTO:-0500
TZNAME:EST
DTSTART:20201101T060000
END:STANDARD
BEGIN:DAYLIGHT
TZOFFSETFROM:-0500
TZOFFSETTO:-0400
TZNAME:EDT
DTSTART:20210314T070000
END:DAYLIGHT
BEGIN:STANDARD
TZOFFSETFROM:-0400
TZOFFSETTO:-0500
TZNAME:EST
DTSTART:20211107T060000
END:STANDARD
BEGIN:DAYLIGHT
TZOFFSETFROM:-0500
TZOFFSETTO:-0400
TZNAME:EDT
DTSTART:20220313T070000
END:DAYLIGHT
BEGIN:STANDARD
TZOFFSETFROM:-0400
TZOFFSETTO:-0500
TZNAME:EST
DTSTART:20221106T060000
END:STANDARD
END:VTIMEZONE
BEGIN:VEVENT
DTSTART;VALUE=DATE:20211122
DTEND;VALUE=DATE:20211130
DTSTAMP:20260420T035707
CREATED:20211123T193853Z
LAST-MODIFIED:20211123T193901Z
UID:10000107-1637539200-1638230399@ellsworthmeadows.com
SUMMARY:Black Friday
DESCRIPTION:Black Friday Steals & Deals!\nIt’s the holidays- skip the stress of shopping & spend more time with your family! \nShop our Black Friday specials to get all your gifts in one place. \n➡️ SHOP NOW
URL:https://ellsworthmeadows.com/event/black-friday-2/
CATEGORIES:Special Offer
ATTACH;FMTTYPE=image/png:https://ellsworthmeadows.com/wp-content/uploads/2021/11/AV-6-BF-2021-blog.png
END:VEVENT
END:VCALENDAR