BEGIN:VCALENDAR
VERSION:2.0
PRODID:-//Ellsworth Meadows - ECPv6.15.20//NONSGML v1.0//EN
CALSCALE:GREGORIAN
METHOD:PUBLISH
X-WR-CALNAME:Ellsworth Meadows
X-ORIGINAL-URL:https://ellsworthmeadows.com
X-WR-CALDESC:Events for Ellsworth Meadows
REFRESH-INTERVAL;VALUE=DURATION:PT1H
X-Robots-Tag:noindex
X-PUBLISHED-TTL:PT1H
BEGIN:VTIMEZONE
TZID:America/Toronto
BEGIN:DAYLIGHT
TZOFFSETFROM:-0500
TZOFFSETTO:-0400
TZNAME:EDT
DTSTART:20210314T070000
END:DAYLIGHT
BEGIN:STANDARD
TZOFFSETFROM:-0400
TZOFFSETTO:-0500
TZNAME:EST
DTSTART:20211107T060000
END:STANDARD
BEGIN:DAYLIGHT
TZOFFSETFROM:-0500
TZOFFSETTO:-0400
TZNAME:EDT
DTSTART:20220313T070000
END:DAYLIGHT
BEGIN:STANDARD
TZOFFSETFROM:-0400
TZOFFSETTO:-0500
TZNAME:EST
DTSTART:20221106T060000
END:STANDARD
BEGIN:DAYLIGHT
TZOFFSETFROM:-0500
TZOFFSETTO:-0400
TZNAME:EDT
DTSTART:20230312T070000
END:DAYLIGHT
BEGIN:STANDARD
TZOFFSETFROM:-0400
TZOFFSETTO:-0500
TZNAME:EST
DTSTART:20231105T060000
END:STANDARD
END:VTIMEZONE
BEGIN:VEVENT
DTSTART;TZID=America/Toronto:20221105T100000
DTEND;TZID=America/Toronto:20221105T100000
DTSTAMP:20260419T100405
CREATED:20220902T130823Z
LAST-MODIFIED:20220902T130823Z
UID:10000158-1667642400-1667642400@ellsworthmeadows.com
SUMMARY:Turkey Trot
DESCRIPTION:Turkey Trot\nNovember 5\n10 AM start \n$80 per player | $240 per team includes: \nIncludes:\n18 Holes w/ Cart\nRange\nLunch at turn\nChili dinner\nBeer and soda after play\n$4000 in prizes\n& Raffle prizes!
URL:https://ellsworthmeadows.com/event/turkey-trot-2/
CATEGORIES:Golf
END:VEVENT
BEGIN:VEVENT
DTSTART;TZID=America/Toronto:20221106T100000
DTEND;TZID=America/Toronto:20221106T100000
DTSTAMP:20260419T100405
CREATED:20220902T131504Z
LAST-MODIFIED:20220902T131504Z
UID:10000159-1667728800-1667728800@ellsworthmeadows.com
SUMMARY:Chili Open
DESCRIPTION:Chili Open\nNovember 6\n10 AM start \n$80 per player | $240 per team includes: \nIncludes:\n18 Holes w/ Cart\nRange\nLunch at turn\nChili dinner\nBeer and soda after play\n$4000 in prizes\n& Raffle prizes!
URL:https://ellsworthmeadows.com/event/chili-open-2/
CATEGORIES:Golf
END:VEVENT
BEGIN:VEVENT
DTSTART;VALUE=DATE:20221121
DTEND;VALUE=DATE:20221129
DTSTAMP:20260419T100405
CREATED:20221121T050140Z
LAST-MODIFIED:20221031T140719Z
UID:10000086-1668988800-1669679999@ellsworthmeadows.com
SUMMARY:Black Friday
DESCRIPTION:Black Friday is officially here!\nThese Black Friday deals are here for a limited time. Grab em quick before they’re gone! \n$100 Gift Card for $90\n$50 Gift Card for $45 \nSale ends 11/28 so don’t wait!
URL:https://ellsworthmeadows.com/event/black-friday-3/
END:VEVENT
BEGIN:VEVENT
DTSTART;VALUE=DATE:20221128
DTEND;VALUE=DATE:20221129
DTSTAMP:20260419T100405
CREATED:20221128T050120Z
LAST-MODIFIED:20221031T140338Z
UID:10000087-1669593600-1669679999@ellsworthmeadows.com
SUMMARY:Cyber Monday
DESCRIPTION:IT’S CYBER MONDAY!\nLAST CHANCE!\nToday is the last day of the Black Friday/Cyber Monday sale and you won’t want to miss these offers: \n$100 Gift Card for $90\n$50 Gift Card for $45
URL:https://ellsworthmeadows.com/event/cyber-monday-2/
END:VEVENT
END:VCALENDAR